BEGIN:VCALENDAR
VERSION:2.0
PRODID:-//Gesellschaft zur Förderung der Österreichischen Luftstreitkräfte - ECPv6.15.17//NONSGML v1.0//EN
CALSCALE:GREGORIAN
METHOD:PUBLISH
X-WR-CALNAME:Gesellschaft zur Förderung der Österreichischen Luftstreitkräfte
X-ORIGINAL-URL:https://luftstreitkraefte.at
X-WR-CALDESC:Veranstaltungen für Gesellschaft zur Förderung der Österreichischen Luftstreitkräfte
REFRESH-INTERVAL;VALUE=DURATION:PT1H
X-Robots-Tag:noindex
X-PUBLISHED-TTL:PT1H
BEGIN:VTIMEZONE
TZID:UTC
BEGIN:STANDARD
TZOFFSETFROM:+0000
TZOFFSETTO:+0000
TZNAME:UTC
DTSTART:20220101T000000
END:STANDARD
END:VTIMEZONE
BEGIN:VEVENT
DTSTART;TZID=UTC:20231002T080000
DTEND;TZID=UTC:20231002T170000
DTSTAMP:20260423T114818
CREATED:20230901T153205Z
LAST-MODIFIED:20230930T061344Z
UID:17857-1696233600-1696266000@luftstreitkraefte.at
SUMMARY:Fliegerstammtisch 2.Okt
DESCRIPTION:Stammtisch für alle Personen\, welche an der Militärluftfahrt interessiert sind. \n  \nDatum: 2.Oktober 2023 18:00 Uhr \nLokal: MT HOTEL ZELTWEG \nThema: Querschnitt über die Airpower \nVortragender: offen
URL:https://luftstreitkraefte.at/event/fliegerstammtisch-2-okt/
END:VEVENT
END:VCALENDAR