BEGIN:VCALENDAR
VERSION:2.0
PRODID:-//Gesellschaft zur Förderung der Österreichischen Luftstreitkräfte - ECPv6.15.17//NONSGML v1.0//EN
CALSCALE:GREGORIAN
METHOD:PUBLISH
X-ORIGINAL-URL:https://luftstreitkraefte.at
X-WR-CALDESC:Veranstaltungen für Gesellschaft zur Förderung der Österreichischen Luftstreitkräfte
REFRESH-INTERVAL;VALUE=DURATION:PT1H
X-Robots-Tag:noindex
X-PUBLISHED-TTL:PT1H
BEGIN:VTIMEZONE
TZID:UTC
BEGIN:STANDARD
TZOFFSETFROM:+0000
TZOFFSETTO:+0000
TZNAME:UTC
DTSTART:20210101T000000
END:STANDARD
END:VTIMEZONE
BEGIN:VEVENT
DTSTART;TZID=UTC:20220110T170000
DTEND;TZID=UTC:20220110T180000
DTSTAMP:20260424T163807
CREATED:20220104T182051Z
LAST-MODIFIED:20220104T182051Z
UID:15595-1641834000-1641837600@luftstreitkraefte.at
SUMMARY:2022: Jänner: FLIEGERSTAMMTISCH STEIERMARK - 10.01.2022
DESCRIPTION:Um 17:00 Uhr findet im MT HOTEL (ZELTWEG) der 1. Fliegerstammtisch im Jahr 2022 statt. \nThemenvortrag: Faszination Fliegen von Hrn. Ainerdinger \nes gelten die gesetzlichen COVID-19 Bestimmungen
URL:https://luftstreitkraefte.at/event/2022-jaenner-fliegerstammtisch-steiermark-10-01-2022/
CATEGORIES:Stammtisch
ATTACH;FMTTYPE=image/jpeg:https://luftstreitkraefte.at/wp-content/uploads/2021/11/41SAFIR.jpg
END:VEVENT
END:VCALENDAR