BEGIN:VCALENDAR
VERSION:2.0
PRODID:-//Gesellschaft zur Förderung der Österreichischen Luftstreitkräfte - ECPv6.15.17//NONSGML v1.0//EN
CALSCALE:GREGORIAN
METHOD:PUBLISH
X-WR-CALNAME:Gesellschaft zur Förderung der Österreichischen Luftstreitkräfte
X-ORIGINAL-URL:https://luftstreitkraefte.at
X-WR-CALDESC:Veranstaltungen für Gesellschaft zur Förderung der Österreichischen Luftstreitkräfte
REFRESH-INTERVAL;VALUE=DURATION:PT1H
X-Robots-Tag:noindex
X-PUBLISHED-TTL:PT1H
BEGIN:VTIMEZONE
TZID:UTC
BEGIN:STANDARD
TZOFFSETFROM:+0000
TZOFFSETTO:+0000
TZNAME:UTC
DTSTART:20210101T000000
END:STANDARD
END:VTIMEZONE
BEGIN:VEVENT
DTSTART;TZID=UTC:20220423T090000
DTEND;TZID=UTC:20220423T170000
DTSTAMP:20260422T064139
CREATED:20220415T065209Z
LAST-MODIFIED:20220415T065209Z
UID:16414-1650704400-1650733200@luftstreitkraefte.at
SUMMARY:Museumsbeginn ZELTWEG\, 23.04.2022
DESCRIPTION:Am 23.April 2022 sind die Tore des Museums\, Außenstelle des HGM\, in ZELTWEG wieder offen. \n  \nhttps://www.hgm.at/ausstellungen/standorte-und-aussenstellen/zeltweg
URL:https://luftstreitkraefte.at/event/museumsbeginn-zeltweg-23-04-2022/
END:VEVENT
END:VCALENDAR