BEGIN:VCALENDAR
VERSION:2.0
PRODID:-//Gesellschaft zur Förderung der Österreichischen Luftstreitkräfte - ECPv6.15.17//NONSGML v1.0//EN
CALSCALE:GREGORIAN
METHOD:PUBLISH
X-WR-CALNAME:Gesellschaft zur Förderung der Österreichischen Luftstreitkräfte
X-ORIGINAL-URL:https://luftstreitkraefte.at
X-WR-CALDESC:Veranstaltungen für Gesellschaft zur Förderung der Österreichischen Luftstreitkräfte
REFRESH-INTERVAL;VALUE=DURATION:PT1H
X-Robots-Tag:noindex
X-PUBLISHED-TTL:PT1H
BEGIN:VTIMEZONE
TZID:UTC
BEGIN:STANDARD
TZOFFSETFROM:+0000
TZOFFSETTO:+0000
TZNAME:UTC
DTSTART:20230101T000000
END:STANDARD
END:VTIMEZONE
BEGIN:VEVENT
DTSTART;TZID=UTC:20240701T180000
DTEND;TZID=UTC:20240701T180000
DTSTAMP:20260421T111139
CREATED:20240624T143145Z
LAST-MODIFIED:20240624T143145Z
UID:18752-1719856800-1719856800@luftstreitkraefte.at
SUMMARY:1.7.24: Stammtisch Steiermark
DESCRIPTION:Hr. Georg Ainerdinger berichtet über die Studienreise 2024 in ITALIEN \n  \nBesichtigung M-346 Leonardo Werk\, Caproni-Museum und die Reise über Südtirol \n  \nBeginn: 18:00 Uhr\, MT-Hotel
URL:https://luftstreitkraefte.at/event/1-7-24-stammtisch-steiermark/
LOCATION:MT Hotel\, Zeltweg\, Hauptstrasse 235\, 8740 Zeltweg
END:VEVENT
END:VCALENDAR