BEGIN:VCALENDAR
VERSION:2.0
PRODID:-//Gesellschaft zur Förderung der Österreichischen Luftstreitkräfte - ECPv6.15.17//NONSGML v1.0//EN
CALSCALE:GREGORIAN
METHOD:PUBLISH
X-WR-CALNAME:Gesellschaft zur Förderung der Österreichischen Luftstreitkräfte
X-ORIGINAL-URL:https://luftstreitkraefte.at
X-WR-CALDESC:Veranstaltungen für Gesellschaft zur Förderung der Österreichischen Luftstreitkräfte
REFRESH-INTERVAL;VALUE=DURATION:PT1H
X-Robots-Tag:noindex
X-PUBLISHED-TTL:PT1H
BEGIN:VTIMEZONE
TZID:UTC
BEGIN:STANDARD
TZOFFSETFROM:+0000
TZOFFSETTO:+0000
TZNAME:UTC
DTSTART:20200101T000000
END:STANDARD
END:VTIMEZONE
BEGIN:VEVENT
DTSTART;TZID=UTC:20211206T170000
DTEND;TZID=UTC:20211206T180000
DTSTAMP:20260425T053259
CREATED:20211125T193226Z
LAST-MODIFIED:20211125T193226Z
UID:14505-1638810000-1638813600@luftstreitkraefte.at
SUMMARY:6.12.2021: Fliegerstammtisch Steiermark (gestrichen)
DESCRIPTION:Der Filmeabend mit Hrn. AINERDINGER – Faszination Fliegen ist auf Grund der gesetzlichen Bestimmungen gestrichen worden.
URL:https://luftstreitkraefte.at/event/6-12-2021-fliegerstammtisch-steiermark-gestrichen/
CATEGORIES:Stammtisch
END:VEVENT
END:VCALENDAR